BEGIN:VCALENDAR
PRODID:-//eluceo/ical//2.0/EN
VERSION:2.0
CALSCALE:GREGORIAN
BEGIN:VEVENT
UID:c523c8016ba764e1e90a1b4cd5c01900
DTSTAMP:20260420T180316Z
SUMMARY:Celebrate Israel's 68th Birthday at Temple Anshe Amunim
DESCRIPTION:Jewish Federation of the Berkshires\nBerkshire Jewish Community
  Calendar\nhttps://jewishberkshires.org/jewish-federation-of-the-berkshire
 s-calendar/celebrate-israels-68th-birthday-at-temple-anshe-amunim-14615983
 45\n\nFriday\, May 13th at 5:30 p.m. Kabbalat Shabbat Service followed by 
 a Yom Haatzmaut (Israel Independence Day) Seder.  Israeli-style dinner (fa
 lafel\, hummus and pita\, Israeli salad and much more!)  Temple members $8
  per person and $30 maximum per family\; and $12 per person for non-member
 s with a $40 maximum per family.  Please RSVP to the Temple by May 10th.  
DTSTART;TZID=America/New_York:20160513T173000
DTEND;TZID=America/New_York:20160513T190000
END:VEVENT
END:VCALENDAR
