BEGIN:VCALENDAR
PRODID:-//eluceo/ical//2.0/EN
VERSION:2.0
CALSCALE:GREGORIAN
BEGIN:VEVENT
UID:6ed37239577df9d005cb828ab29b0288
DTSTAMP:20260425T125354Z
SUMMARY:Celebrate Chanukah Sephardic Style!
DESCRIPTION:Jewish Federation of the Berkshires\nBerkshire Jewish Community
  Calendar\nhttps://jewishberkshires.org/jewish-federation-of-the-berkshire
 s-calendar/celebrate-chanukah-sephardic-style\n\n Sephardic-inspired Chanu
 kah celebration and short Havdalah
DTSTART;TZID=America/New_York:20191207T160000
DTEND;TZID=America/New_York:20191207T173000
END:VEVENT
END:VCALENDAR
