BEGIN:VCALENDAR
PRODID:-//eluceo/ical//2.0/EN
VERSION:2.0
CALSCALE:GREGORIAN
BEGIN:VEVENT
UID:9fd997be6dbbbbacafa1911043db7d11
DTSTAMP:20260420T111409Z
SUMMARY:CBI Chanukah Party
DESCRIPTION:Jewish Federation of the Berkshires\nBerkshire Jewish Community
  Calendar\nhttps://jewishberkshires.org/jewish-federation-of-the-berkshire
 s-calendar/cbi-chanukah-party-1447873570\n\nStarts with candle-lighting. B
 ring your chanukiyah\, and please RSVP for the potluck (office@cbiweb.org)
  so we know how many latkes to make. Please bring a wrapped gift for a chi
 ld in support of the many women and children affected by domestic and sexu
 al violence and provided shelter by the Elizabeth Freeman Center. Indicate
  the appropriate age and gender of the recipient on the outside of the pac
 kage. We will arrange for the delivery of all the gift packages to the Fre
 eman Center. Thank you!
DTSTART;TZID=America/New_York:20151211T173000
DTEND;TZID=America/New_York:20151211T193000
END:VEVENT
END:VCALENDAR
