BEGIN:VCALENDAR
PRODID:-//eluceo/ical//2.0/EN
VERSION:2.0
CALSCALE:GREGORIAN
BEGIN:VEVENT
UID:8889ce4e74f8b2a568b0bd8a532cad0e
DTSTAMP:20260425T112550Z
SUMMARY:CAS Chanukah Party
DESCRIPTION:Jewish Federation of the Berkshires\nBerkshire Jewish Community
  Calendar\nhttps://jewishberkshires.org/jewish-federation-of-the-berkshire
 s-calendar/cas-chanukah-party-1411224461\n\nChanukah celebration with meno
 rah lighting and dinner buffet.
DTSTART;TZID=America/New_York:20141213T000000
DTEND;TZID=America/New_York:20141213T000000
END:VEVENT
END:VCALENDAR
