BEGIN:VCALENDAR
PRODID:-//eluceo/ical//2.0/EN
VERSION:2.0
CALSCALE:GREGORIAN
BEGIN:VEVENT
UID:dbd2fb5400707c8af2c920414f20abad
DTSTAMP:20260419T154032Z
SUMMARY:CAS Chanukah Concert and Celebration
DESCRIPTION:Jewish Federation of the Berkshires\nBerkshire Jewish Community
  Calendar\nhttps://jewishberkshires.org/jewish-federation-of-the-berkshire
 s-calendar/cas-chanukah-concert-and-celebration-1669924851\n\nPhilip and M
 eredith Thompson\, born and raised in NYC\, began studying music at very y
 oung ages.  Both are students of Ronn Yedidia at the New York Piano Academ
 y.  Both have won numerous competitions and played on various well-known s
 tages.  Phillip studies cello with Yehuda Hanani and is a member of the Ne
 w York Youth Orchestra.  Meredith studies violin with Elizabeth Faidley an
 d has participated in The High Peaks Music Festival in Sheffield.\nPhilip 
 and Meredith are grateful to be performing...
DTSTART;TZID=America/New_York:20221226T143000
DTEND;TZID=America/New_York:20221226T160000
END:VEVENT
END:VCALENDAR
