BEGIN:VCALENDAR
PRODID:-//eluceo/ical//2.0/EN
VERSION:2.0
CALSCALE:GREGORIAN
BEGIN:VEVENT
UID:293fda55d96eb85f31480ee74713e99e
DTSTAMP:20260419T132129Z
SUMMARY:CAS - Nosh & Drosh
DESCRIPTION:Jewish Federation of the Berkshires\nBerkshire Jewish Community
  Calendar\nhttps://jewishberkshires.org/jewish-federation-of-the-berkshire
 s-calendar/cas---nosh--drosh-24683\n\nCAS Nosh & Drosh
DTSTART;TZID=America/New_York:20130703T120000
DTEND;TZID=America/New_York:20130703T140000
END:VEVENT
END:VCALENDAR
