BEGIN:VCALENDAR
PRODID:-//eluceo/ical//2.0/EN
VERSION:2.0
CALSCALE:GREGORIAN
BEGIN:VEVENT
UID:341f7b19809dc6c75312d3863c88f5fa
DTSTAMP:20260425T223209Z
SUMMARY:Cantilena Chamber Choir: Tanglewood Music Center 75th Anniversary
DESCRIPTION:Jewish Federation of the Berkshires\nBerkshire Jewish Community
  Calendar\nhttps://jewishberkshires.org/jewish-federation-of-the-berkshire
 s-calendar/cantilena-chamber-choir-tanglewood-music-center-75th-anniversar
 y-1459352578\n\nLENOX\, MA. — On Saturday May14th at 7:30 the Cantilena 
 Chamber Choir will present a performance of the choral music showcasing co
 mpositions by former Tanglewood Composition fellows in honor of the Tangle
 wood Music Center’s 75th Anniversary. Included on the program will be wo
 rks for chorus and orchestra by Lukas Foss\, Ned Rorem\, Elliot Carter\, D
 avid del Tredici and more. The Choir will present a new work by a younger 
 graduate\, 29 year-old Stephen Feigenbaum called Home.\n\nOur featured com
 ...
DTSTART;TZID=America/New_York:20160514T193000
DTEND;TZID=America/New_York:20160514T210000
END:VEVENT
END:VCALENDAR
