BEGIN:VCALENDAR
PRODID:-//eluceo/ical//2.0/EN
VERSION:2.0
CALSCALE:GREGORIAN
BEGIN:VEVENT
UID:10d6d282c633342c668eb1e805c32912
DTSTAMP:20260422T115614Z
SUMMARY:CANCELED - JFB Program "Celebrate the New Year of the Trees" 
DESCRIPTION:Jewish Federation of the Berkshires\nBerkshire Jewish Community
  Calendar\nhttps://jewishberkshires.org/jewish-federation-of-the-berkshire
 s-calendar/canceled-jfb-program-celebrate-the-new-year-of-the-trees\n\nThe
  Jewish Federation of the Berkshires invites you to join Rabbi Jan Kaufman
  to celebrate the holiday of Tu B'Shevat and explore its significance as a
  Jewish holiday.  
DTSTART;TZID=America/New_York:20150205T130000
DTEND;TZID=America/New_York:20150205T143000
END:VEVENT
END:VCALENDAR
