BEGIN:VCALENDAR
PRODID:-//eluceo/ical//2.0/EN
VERSION:2.0
CALSCALE:GREGORIAN
BEGIN:VEVENT
UID:5acd2d7108446f1d68d83b29f406becf
DTSTAMP:20260420T062552Z
SUMMARY:Can I See the Horns: Roots of Antisemitism
DESCRIPTION:Jewish Federation of the Berkshires\nBerkshire Jewish Community
  Calendar\nhttps://jewishberkshires.org/jewish-federation-of-the-berkshire
 s-calendar/can-i-see-the-horns-roots-of-antisemitism\n\nVirtual program. 
  Please register HERE.\n\nIn observance of International Holocaust Remembr
 ance Day\, please join this timely 65-minute virtual presentation by schol
 ar and oral historian Marcia Jo Zerivitz.   Jewish life since 10.7.23 is
  no longer the same. Antisemitism has exponentially increased here in the 
 US and globally and has become normalized\, especially on college campuses
 \, and mostly based on conspiracy theories. Florida hosts the nation’s s
 econd largest number of hate groups: 8...
DTSTART;TZID=America/New_York:20250123T190000
DTEND;TZID=America/New_York:20250123T201500
END:VEVENT
END:VCALENDAR
