BEGIN:VCALENDAR
PRODID:-//eluceo/ical//2.0/EN
VERSION:2.0
CALSCALE:GREGORIAN
BEGIN:VEVENT
UID:265bb86145ca628473d80d056ff525db
DTSTAMP:20260422T002819Z
SUMMARY:Cabaret at KI with Sherri Buxton\, Paul Green and Bob Scherr
DESCRIPTION:Jewish Federation of the Berkshires\nBerkshire Jewish Community
  Calendar\nhttps://jewishberkshires.org/jewish-federation-of-the-berkshire
 s-calendar/cabaret-at-ki-with-sherri-buxton-paul-green-and-bob-scherr\n\nC
 abaret at KI with Sherri Buxton
DTSTART;TZID=America/New_York:20130714T193000
DTEND;TZID=America/New_York:20130714T210000
END:VEVENT
END:VCALENDAR
