BEGIN:VCALENDAR
PRODID:-//eluceo/ical//2.0/EN
VERSION:2.0
CALSCALE:GREGORIAN
BEGIN:VEVENT
UID:ca0bddfc8ee6838dd175da5e6f794e64
DTSTAMP:20260423T142834Z
SUMMARY:Bursting the Bubble of the Bubbe Meises of Chanukah
DESCRIPTION:Jewish Federation of the Berkshires\nBerkshire Jewish Community
  Calendar\nhttps://jewishberkshires.org/jewish-federation-of-the-berkshire
 s-calendar/bursting-the-bubble-of-the-bubbe-meises-of-chanukah\n\nThe Jewi
 sh Federation Connecting with Community presents Exploring (and Exploding)
  the Myths of Chanukah with Rabbi Jan Caryl Kaufman\, a certain-to-be thou
 ght provoking class about the much loved but incompletely understood Festi
 val of Lights.
DTSTART;TZID=America/New_York:20151203T104500
DTEND;TZID=America/New_York:20151203T120000
END:VEVENT
END:VCALENDAR
