BEGIN:VCALENDAR
PRODID:-//eluceo/ical//2.0/EN
VERSION:2.0
CALSCALE:GREGORIAN
BEGIN:VEVENT
UID:b8e57909c6d28c7aea426e70623532e4
DTSTAMP:20260422T185531Z
SUMMARY:Bullying in the Older Adult Population
DESCRIPTION:Jewish Federation of the Berkshires\nBerkshire Jewish Community
  Calendar\nhttps://jewishberkshires.org/jewish-federation-of-the-berkshire
 s-calendar/bullying-in-the-older-adult-population\n\nBullying isn't just f
 or teenagers.  It is a problem older adults grapple with as well 
DTSTART;TZID=America/New_York:20190912T104500
DTEND;TZID=America/New_York:20190912T120000
END:VEVENT
END:VCALENDAR
