BEGIN:VCALENDAR
PRODID:-//eluceo/ical//2.0/EN
VERSION:2.0
CALSCALE:GREGORIAN
BEGIN:VEVENT
UID:a54c0bbeb8a5c9cde1d6eba41b55699c
DTSTAMP:20260419T132008Z
SUMMARY:Building Bridges Between Israel and Local Communities
DESCRIPTION:Jewish Federation of the Berkshires\nBerkshire Jewish Community
  Calendar\nhttps://jewishberkshires.org/jewish-federation-of-the-berkshire
 s-calendar/building-bridges-between-israel-and-local-communities\n\nThe Je
 wish Federation Connecting with Community presents "Building Bridges Betwe
 en Israel and Local Communities."\n\nMeet the Israeli Young Emissaries who
  are creating meaningful connections and living bridges between partnershi
 p communities in the US and Israel\, through the Federation funded Partner
 ship2gether program of the Jewish Agency for Israel. 
DTSTART;TZID=America/New_York:20171106T104500
DTEND;TZID=America/New_York:20171106T120000
END:VEVENT
END:VCALENDAR
