BEGIN:VCALENDAR
PRODID:-//eluceo/ical//2.0/EN
VERSION:2.0
CALSCALE:GREGORIAN
BEGIN:VEVENT
UID:b5c3d3dc7aca285313cf8c2621287adf
DTSTAMP:20260425T031940Z
SUMMARY:Broadway Musicals: A Jewish Legacy
DESCRIPTION:Jewish Federation of the Berkshires\nBerkshire Jewish Community
  Calendar\nhttps://jewishberkshires.org/jewish-federation-of-the-berkshire
 s-calendar/broadway-musicals-a-jewish-legacy\n\nThe Jewish Federation Conn
 ecting with Community series will show the film\, Broadway Musicals: A Jew
 ish Legacy. \n\nThis film examines the unique role of Jewish composers an
 d lyricists in the creation of the modern American musical.  The film sho
 wcases the works of legends and highlights interviews with footage of perf
 ormances that showcase Broadway's best. This film is narrated by Joel Grey
 .\n\nPlease note: The screening of this film will be from 10:45 to 11:45am
  and continue to completion ...
DTSTART;TZID=America/New_York:20170202T104500
DTEND;TZID=America/New_York:20170202T131500
END:VEVENT
END:VCALENDAR
