BEGIN:VCALENDAR
PRODID:-//eluceo/ical//2.0/EN
VERSION:2.0
CALSCALE:GREGORIAN
BEGIN:VEVENT
UID:806e07846b2e303d31dfbb0c278ffd66
DTSTAMP:20260420T062409Z
SUMMARY:Brexit and Turkey
DESCRIPTION:Jewish Federation of the Berkshires\nBerkshire Jewish Community
  Calendar\nhttps://jewishberkshires.org/jewish-federation-of-the-berkshire
 s-calendar/brexit-and-turkey-1470313553\n\nGlobal economist sheds light on
  crises.\n\n \n
DTSTART;TZID=America/New_York:20160829T190000
DTEND;TZID=America/New_York:20160829T203000
END:VEVENT
END:VCALENDAR
