BEGIN:VCALENDAR
PRODID:-//eluceo/ical//2.0/EN
VERSION:2.0
CALSCALE:GREGORIAN
BEGIN:VEVENT
UID:a415cb8b713763ba76907d7e461d4338
DTSTAMP:20260421T193304Z
SUMMARY:Breaking the Silence in Gyumri\, Armenia
DESCRIPTION:Jewish Federation of the Berkshires\nBerkshire Jewish Community
  Calendar\nhttps://jewishberkshires.org/jewish-federation-of-the-berkshire
 s-calendar/breaking-the-silence-in-gyumri-armenia\n\nThe Jewish Federation
  Connecting with Community presents "Breaking the Silence in Gyumri\, Arme
 nia" in recognition of International Women's Day.
DTSTART;TZID=America/New_York:20180607T104500
DTEND;TZID=America/New_York:20180607T120000
END:VEVENT
END:VCALENDAR
