BEGIN:VCALENDAR
PRODID:-//eluceo/ical//2.0/EN
VERSION:2.0
CALSCALE:GREGORIAN
BEGIN:VEVENT
UID:b782c66c852b51e543df966d54149e33
DTSTAMP:20260420T151504Z
SUMMARY:"Books\, Babies and Bagels"
DESCRIPTION:Jewish Federation of the Berkshires\nBerkshire Jewish Community
  Calendar\nhttps://jewishberkshires.org/jewish-federation-of-the-berkshire
 s-calendar/books-babies-and-bagels-1482165836\n\nBerkshire Hills Hadassah 
 will host a "Books\, Babies and Bagels" program with a speaker.\n\nDetails
  to follow.
DTSTART;TZID=America/New_York:20170507T103000
DTEND;TZID=America/New_York:20170507T130000
END:VEVENT
END:VCALENDAR
