BEGIN:VCALENDAR
PRODID:-//eluceo/ical//2.0/EN
VERSION:2.0
CALSCALE:GREGORIAN
BEGIN:VEVENT
UID:8a02f2dfa26225f272765c20294037ad
DTSTAMP:20260419T231316Z
SUMMARY:Book Talk with Local Author Margery Metzger
DESCRIPTION:Jewish Federation of the Berkshires\nBerkshire Jewish Community
  Calendar\nhttps://jewishberkshires.org/jewish-federation-of-the-berkshire
 s-calendar/book-talk-with-local-author-margery-metzger-1682655504\n\nMarge
 ry Metzger explores not only evil\, but most importantly\, justice served\
 , in the true crime tale Hidden Demons: Evil Visits a Small New England T
 own. \n\nOn January 7\, 1994\, a young girl's escape from an attempted ki
 dnapping\, a father's and daughter's apprehension of criminals on the cusp
  of escalating their evil deeds\, and the beginning of the trial of one of
  this nation's first mass college campus shooting\, all shocked the tranqu
 il Berkshires\, leaving its residents wondering how this ...
DTSTART;TZID=America/New_York:20230827T100000
DTEND;TZID=America/New_York:20230827T233000
END:VEVENT
END:VCALENDAR
