BEGIN:VCALENDAR
PRODID:-//eluceo/ical//2.0/EN
VERSION:2.0
CALSCALE:GREGORIAN
BEGIN:VEVENT
UID:dac731a880d5ca8ebd8ef9e2a21d8d75
DTSTAMP:20260420T044250Z
SUMMARY:Book Talk: The Art of Diplomacy with Ambassador Stuart Eizenstat
DESCRIPTION:Jewish Federation of the Berkshires\nBerkshire Jewish Community
  Calendar\nhttps://jewishberkshires.org/jewish-federation-of-the-berkshire
 s-calendar/book-talk-the-art-of-diplomacy-with-ambassador-stuart-eizenstat
 -1715098018\n\nAmbassador Stuart Eizenstat will present on topics from his
  new book “The Art of Diplomacy: How American Negotiators Reached Histor
 ic Agreements that Changed the World.” Free\, 7:30pm.
DTSTART;TZID=America/New_York:20240718T193000
DTEND;TZID=America/New_York:20240718T204500
END:VEVENT
END:VCALENDAR
