BEGIN:VCALENDAR
PRODID:-//eluceo/ical//2.0/EN
VERSION:2.0
CALSCALE:GREGORIAN
BEGIN:VEVENT
UID:11773d7e8fd17ee08b9f1c97c1221ab9
DTSTAMP:20260420T230959Z
SUMMARY:Boca Raton Berkshires Get-Together
DESCRIPTION:Jewish Federation of the Berkshires\nBerkshire Jewish Community
  Calendar\nhttps://jewishberkshires.org/jewish-federation-of-the-berkshire
 s-calendar/boca-raton-berkshires-get-together\n\nJoin us in Boca Raton\, F
 L to enjoy nosh and conversation while connecting with Berkshires friends.
  Hear from Federation President Arlene D. Schiff\, Executive Director Da
 ra Kaufman\, and Senior Development Officer Rebekah Steinfeld about all t
 hat has been happening in the Berkshires and plans for 2026!\n\nHosted by 
 Carol and Irv Smokler. The event address will be shared with registered at
 tendees the week before the event.\n\nSpace is limited and advanced regis
 tration is required by February...
DTSTART;TZID=America/New_York:20260222T160000
DTEND;TZID=America/New_York:20260222T173000
END:VEVENT
END:VCALENDAR
