BEGIN:VCALENDAR
PRODID:-//eluceo/ical//2.0/EN
VERSION:2.0
CALSCALE:GREGORIAN
BEGIN:VEVENT
UID:35c22fa0980333426f308d1f1a6f191b
DTSTAMP:20260424T034518Z
SUMMARY:Bob gillette
DESCRIPTION:Jewish Federation of the Berkshires\nBerkshire Jewish Community
  Calendar\nhttps://jewishberkshires.org/jewish-federation-of-the-berkshire
 s-calendar/bob-gillette\n\nAuthor Bob Gillette to speak at Hevreh
DTSTART;TZID=America/New_York:20130807T114500
DTEND;TZID=America/New_York:20130807T121500
END:VEVENT
END:VCALENDAR
