BEGIN:VCALENDAR
PRODID:-//eluceo/ical//2.0/EN
VERSION:2.0
CALSCALE:GREGORIAN
BEGIN:VEVENT
UID:a67c32ab775c7fba9d68389d9f1ec697
DTSTAMP:20260421T135110Z
SUMMARY:Board of Directors Meeting for the Federation
DESCRIPTION:Jewish Federation of the Berkshires\nBerkshire Jewish Community
  Calendar\nhttps://jewishberkshires.org/jewish-federation-of-the-berkshire
 s-calendar/board-of-directors-meeting-for-the-federation\n\nUnless notifie
 d otherwise\, all meetings will be held via Zoom
DTSTART;TZID=America/New_York:20240528T193000
DTEND;TZID=America/New_York:20240528T213000
END:VEVENT
END:VCALENDAR
