BEGIN:VCALENDAR
PRODID:-//eluceo/ical//2.0/EN
VERSION:2.0
CALSCALE:GREGORIAN
BEGIN:VEVENT
UID:f10c9c626f87c886126dd62502d923e0
DTSTAMP:20260421T213041Z
SUMMARY:Jewish Federation of the Berkshires Board of Directors Meeting
DESCRIPTION:Jewish Federation of the Berkshires\nBerkshire Jewish Community
  Calendar\nhttps://jewishberkshires.org/jewish-federation-of-the-berkshire
 s-calendar/board-of-directors-meeting-1659621656\n\nBOARD VOTE: Allocation
 s and final 2023 Budget. PLEASE NOTE: A quorum is needed for this vote. Al
 l meetings are held via Zoom unless otherwise noted. 
DTSTART;TZID=America/New_York:20230228T193000
DTEND;TZID=America/New_York:20230228T213000
END:VEVENT
END:VCALENDAR
