BEGIN:VCALENDAR
PRODID:-//eluceo/ical//2.0/EN
VERSION:2.0
CALSCALE:GREGORIAN
BEGIN:VEVENT
UID:58017ff62bc026c4807e73956c833a54
DTSTAMP:20260420T200741Z
SUMMARY:B'nai Mitzvah trip to Museum of Jewish Heritage in NYC
DESCRIPTION:Jewish Federation of the Berkshires\nBerkshire Jewish Community
  Calendar\nhttps://jewishberkshires.org/jewish-federation-of-the-berkshire
 s-calendar/bnai-mitzvah-trip-to-museum-of-jewish-heritage-in-nyc\n\nDay Tr
 ip to Museum of Jewish Heritage in NYC
DTSTART;TZID=America/New_York:20191208T080000
DTEND;TZID=America/New_York:20191208T200000
END:VEVENT
END:VCALENDAR
