BEGIN:VCALENDAR
PRODID:-//eluceo/ical//2.0/EN
VERSION:2.0
CALSCALE:GREGORIAN
BEGIN:VEVENT
UID:e499e259a1881f2776987ebc693a41b8
DTSTAMP:20260422T121216Z
SUMMARY:Blood Drive at Hevreh: Donate or Volunteer!
DESCRIPTION:Jewish Federation of the Berkshires\nBerkshire Jewish Community
  Calendar\nhttps://jewishberkshires.org/jewish-federation-of-the-berkshire
 s-calendar/blood-drive-at-hevreh-donate-or-volunteer-1463670095\n\nSchedul
 e an appointment now to give blood at Hevreh. Please go to redcrossblood.o
 rg or call 1-800-RED CROSS (1-800-733-2767) to schedule your appointment. 
 Volunteers are needed to help for two shifts: 12:30 – 3:30 pm\, and 3:30
  – 6:30pm. Please contact aschwerner@aol.com.
DTSTART;TZID=America/New_York:20160621T123000
DTEND;TZID=America/New_York:20160621T183000
END:VEVENT
END:VCALENDAR
