BEGIN:VCALENDAR
PRODID:-//eluceo/ical//2.0/EN
VERSION:2.0
CALSCALE:GREGORIAN
BEGIN:VEVENT
UID:536c4053e93d42aab5480bfe6c30a638
DTSTAMP:20260424T064416Z
SUMMARY:Blood Drive at Hevreh
DESCRIPTION:Jewish Federation of the Berkshires\nBerkshire Jewish Community
  Calendar\nhttps://jewishberkshires.org/jewish-federation-of-the-berkshire
 s-calendar/blood-drive-at-hevreh-1443798516\n\nPlease schedule an appointm
 ent now to donate blood to the American Red Cross. Go to redcrossblood.org
  or call 1-800-RED CROSS (1-800733-2767).
DTSTART;TZID=America/New_York:20151021T000000
DTEND;TZID=America/New_York:20151021T170000
END:VEVENT
END:VCALENDAR
