BEGIN:VCALENDAR
PRODID:-//eluceo/ical//2.0/EN
VERSION:2.0
CALSCALE:GREGORIAN
BEGIN:VEVENT
UID:b59f5e44b5ae68a66bc616d0d810069a
DTSTAMP:20260421T193721Z
SUMMARY:Blood Drive at Hevreh
DESCRIPTION:Jewish Federation of the Berkshires\nBerkshire Jewish Community
  Calendar\nhttps://jewishberkshires.org/jewish-federation-of-the-berkshire
 s-calendar/blood-drive-at-hevreh-1424453257\n\nTo schedule a donation\, pl
 ease go to http://www.redcrossblood.org/donating-blood . To volunteer at t
 he Blood Drive\, please email anitaforHevreh@aol.com.
DTSTART;TZID=America/New_York:20150318T120000
DTEND;TZID=America/New_York:20150318T170000
END:VEVENT
END:VCALENDAR
