BEGIN:VCALENDAR
PRODID:-//eluceo/ical//2.0/EN
VERSION:2.0
CALSCALE:GREGORIAN
BEGIN:VEVENT
UID:edc21b6bec77324cf1a900ce75417929
DTSTAMP:20260423T010115Z
SUMMARY:Blessing of the Animals
DESCRIPTION:Jewish Federation of the Berkshires\nBerkshire Jewish Community
  Calendar\nhttps://jewishberkshires.org/jewish-federation-of-the-berkshire
 s-calendar/blessing-of-the-animals-1747408490\n\nThis Shabbat we read from
  Parashat Balak which includes a character\, Balaam the prophet. He rides 
 a donkey on the way to curse the Israelites\, but his donkey has other ide
 as. In honor of the donkey\, we turn to our animal friends and share our l
 ove and blessings. Bring your animals to the TAA yard for a bracha\, plus 
 a couple of special silly competitions with prizes.
DTSTART;TZID=America/New_York:20250712T104500
DTEND;TZID=America/New_York:20250712T113000
END:VEVENT
END:VCALENDAR
