BEGIN:VCALENDAR
PRODID:-//eluceo/ical//2.0/EN
VERSION:2.0
CALSCALE:GREGORIAN
BEGIN:VEVENT
UID:89c15997e1ff1f9a834138a02e7f95d8
DTSTAMP:20260422T025145Z
SUMMARY:Black Fire on White Fire: An Introduction to the Scribal Arts
DESCRIPTION:Jewish Federation of the Berkshires\nBerkshire Jewish Community
  Calendar\nhttps://jewishberkshires.org/jewish-federation-of-the-berkshire
 s-calendar/black-fire-on-white-fire-an-introduction-to-the-scribal-arts-14
 56254538\n\nJulie Seltzer:\nScribe\, Educator\, Artist\n\nTorah letters on
  parchment are referred to in the tradition as “black fire on white fire
 .” In this workshop\, Julie will introduce the art and science of sacred
  calligraphy. She will explain the rules of the craft through an interacti
 ve Power-point lecture\, touching on secrets of the trade like aligning a 
 column of text\, rhythm and consistency\, and meditative intention. In the
  second part of the workshop\, participants will learn how to form Torah..
 .
DTSTART;TZID=America/New_York:20160403T110000
DTEND;TZID=America/New_York:20160403T130000
END:VEVENT
END:VCALENDAR
