BEGIN:VCALENDAR
PRODID:-//eluceo/ical//2.0/EN
VERSION:2.0
CALSCALE:GREGORIAN
BEGIN:VEVENT
UID:70804410216042b9296361be76899176
DTSTAMP:20260421T095429Z
SUMMARY:Billy Budd in the Breadbox: The True Story of Herman Melville
DESCRIPTION:Jewish Federation of the Berkshires\nBerkshire Jewish Community
  Calendar\nhttps://jewishberkshires.org/jewish-federation-of-the-berkshire
 s-calendar/billy-budd-in-the-breadbox-the-true-story-of-herman-melville\n\
 nThe Jewish Federation Connecting with Community presents "Billy Budd in t
 he Breadbox: The True Story of Herman Melville" 
DTSTART;TZID=America/New_York:20180517T104500
DTEND;TZID=America/New_York:20180517T120000
END:VEVENT
END:VCALENDAR
