BEGIN:VCALENDAR
PRODID:-//eluceo/ical//2.0/EN
VERSION:2.0
CALSCALE:GREGORIAN
BEGIN:VEVENT
UID:1877c11997a34361cb3ed2e7da7075fe
DTSTAMP:20260425T112049Z
SUMMARY:BHH Chai Tea/Youth Aliyah
DESCRIPTION:Jewish Federation of the Berkshires\nBerkshire Jewish Community
  Calendar\nhttps://jewishberkshires.org/jewish-federation-of-the-berkshire
 s-calendar/bhh-chai-tea-youth-aliyah\n\nBHH Chai Tra
DTSTART;TZID=America/New_York:20140730T120000
DTEND;TZID=America/New_York:20140730T123000
END:VEVENT
END:VCALENDAR
