BEGIN:VCALENDAR
PRODID:-//eluceo/ical//2.0/EN
VERSION:2.0
CALSCALE:GREGORIAN
BEGIN:VEVENT
UID:0ea593cba461e615232c352ff9997ecb
DTSTAMP:20260421T024246Z
SUMMARY:Beyond the Hora
DESCRIPTION:Jewish Federation of the Berkshires\nBerkshire Jewish Community
  Calendar\nhttps://jewishberkshires.org/jewish-federation-of-the-berkshire
 s-calendar/beyond-the-hora\n\nThe Jewish Federation Connecting with Commun
 ity presents "Beyond the Hora: How Israeli Contemporary Dance Became World
  Famous."
DTSTART;TZID=America/New_York:20180816T104500
DTEND;TZID=America/New_York:20180816T120000
END:VEVENT
END:VCALENDAR
