BEGIN:VCALENDAR
PRODID:-//eluceo/ical//2.0/EN
VERSION:2.0
CALSCALE:GREGORIAN
BEGIN:VEVENT
UID:7f8fc89e88b525b41643fb80dc247866
DTSTAMP:20260422T165925Z
SUMMARY:Beyond Adam and Eve – Judaism and Gender
DESCRIPTION:Jewish Federation of the Berkshires\nBerkshire Jewish Community
  Calendar\nhttps://jewishberkshires.org/jewish-federation-of-the-berkshire
 s-calendar/beyond-adam-and-eve--judaism-and-gender-1490882960\n\nOver the 
 last several years\, and with relevant cases making their way through the 
 courts\, conversation about gender in the United States has become more op
 en and more fraught. Gender refers to the attitudes\, feelings\, and behav
 iors that a given culture associates with a person’s biological sex (Ame
 rican Psychological Association). The goal of this class is to situate our
  experience of gender in a broader Jewish context.Join Rabbi David Weiner 
 for journey through frank discussions of gender ...
DTSTART;TZID=America/New_York:20170530T190000
DTEND;TZID=America/New_York:20170530T210000
END:VEVENT
END:VCALENDAR
