BEGIN:VCALENDAR
PRODID:-//eluceo/ical//2.0/EN
VERSION:2.0
CALSCALE:GREGORIAN
BEGIN:VEVENT
UID:9252ec022f1fc2deb3d65eda9ac9fc6f
DTSTAMP:20260420T111052Z
SUMMARY:Betty Friedan: Magnificent Disrupter
DESCRIPTION:Jewish Federation of the Berkshires\nBerkshire Jewish Community
  Calendar\nhttps://jewishberkshires.org/jewish-federation-of-the-berkshire
 s-calendar/betty-friedan-magnificent-disrupter\n\nVia Zoom.  Register HER
 E.\n\nJewish Literary Voices: A Jewish Federation of the Berkshires Series
  in collaboration with Jewish Book Council\n\nThe feminist writer and act
 ivist Betty Friedan (1921–2006)\, pathbreaking author of The Feminine M
 ystique\, was powerful and polarizing. In this biography\, the first in mo
 re than twenty years\, Rachel Shteir draws on Friedan’s papers and on in
 terviews with family\, colleagues\, and friends to create a nuanced portra
 it.\n \nFriedan\, born Bettye Naomi...
DTSTART;TZID=America/New_York:20240318T190000
DTEND;TZID=America/New_York:20240318T200000
END:VEVENT
END:VCALENDAR
