BEGIN:VCALENDAR
PRODID:-//eluceo/ical//2.0/EN
VERSION:2.0
CALSCALE:GREGORIAN
BEGIN:VEVENT
UID:d9da63a3fa62ce8183df3534e7dd887b
DTSTAMP:20260424T031030Z
SUMMARY:BerkshireSpeaks: Inspirational presentations by Berkshire community
  leaders
DESCRIPTION:Jewish Federation of the Berkshires\nBerkshire Jewish Community
  Calendar\nhttps://jewishberkshires.org/jewish-federation-of-the-berkshire
 s-calendar/berkshirespeaks-inspirational-presentations-by-berkshire-commun
 ity-leaders-1411579045\n\nBerkshireSpeaks: An enriching afternoon of inspi
 rational presentations by Berkshire community leaders
DTSTART;TZID=America/New_York:20141019T133000
DTEND;TZID=America/New_York:20141019T163000
END:VEVENT
END:VCALENDAR
