BEGIN:VCALENDAR
PRODID:-//eluceo/ical//2.0/EN
VERSION:2.0
CALSCALE:GREGORIAN
BEGIN:VEVENT
UID:3e546610c31724eb4ded7e481fc4c64b
DTSTAMP:20260423T140613Z
SUMMARY:BerkshireSPEAKS
DESCRIPTION:Jewish Federation of the Berkshires\nBerkshire Jewish Community
  Calendar\nhttps://jewishberkshires.org/jewish-federation-of-the-berkshire
 s-calendar/berkshirespeaks-1487708441\n\nBased on Ted Talks\, BerkshireSPE
 AKS is now celebrating it's fourth year at Hevreh of Southern Berkshire\, 
 270 State Road  Great Barrington from 1:30 pm- 3:30pm.  Each speaker will 
 share with our audience how they have impacted the Berkshires through busi
 ness\, media and the arts.  Stay tuned to learn who our 2017 speakers will
  be.  A reception will follow.\n\nTo learn more about past BerkshireSPEAKS
  events visit the Hevreh website Hevreh.org under BerkshireSPEAKS.  Links 
 to video and bios can...
DTSTART;TZID=America/New_York:20171022T133000
DTEND;TZID=America/New_York:20171022T153000
END:VEVENT
END:VCALENDAR
