BEGIN:VCALENDAR
PRODID:-//eluceo/ical//2.0/EN
VERSION:2.0
CALSCALE:GREGORIAN
BEGIN:VEVENT
UID:3b177b292092a60c560eb05aef4c62d7
DTSTAMP:20260420T111042Z
SUMMARY:BerkshireSPEAKS
DESCRIPTION:Jewish Federation of the Berkshires\nBerkshire Jewish Community
  Calendar\nhttps://jewishberkshires.org/jewish-federation-of-the-berkshire
 s-calendar/berkshirespeaks-1416180638\n\nAn enriching afternoon of inspira
 tional presentations by Berkshire community leaders and trendsetters.
DTSTART;TZID=America/New_York:20151018T133000
DTEND;TZID=America/New_York:20151018T163000
END:VEVENT
END:VCALENDAR
