BEGIN:VCALENDAR
PRODID:-//eluceo/ical//2.0/EN
VERSION:2.0
CALSCALE:GREGORIAN
BEGIN:VEVENT
UID:931993eb3ede4e9ade9dde9c265b131e
DTSTAMP:20260421T010341Z
SUMMARY:Berkshires to Israel and Back: Reflections post October 7
DESCRIPTION:Jewish Federation of the Berkshires\nBerkshire Jewish Community
  Calendar\nhttps://jewishberkshires.org/jewish-federation-of-the-berkshire
 s-calendar/berkshires-to-israel-and-back-reflections-post-october-7-172192
 7128\n\nJoin Temple Anshe Amunim for services this evening. We will be pri
 vileged to hear from Leonard Pader and Tanya Feldman\, residents of Kibbut
 z Shluchot in northern Israel.\n\nKibbutz Shluchot was established in May 
 of 1948 by immigrants from Austria and Germany\, many of whom were Holocau
 st survivors.  Shluchot was the first kibbutz established after the creat
 ion of the state of Israel.
DTSTART;TZID=America/New_York:20240809T173000
DTEND;TZID=America/New_York:20240809T190000
END:VEVENT
END:VCALENDAR
