BEGIN:VCALENDAR
PRODID:-//eluceo/ical//2.0/EN
VERSION:2.0
CALSCALE:GREGORIAN
BEGIN:VEVENT
UID:69f802ebf6d5a6b3f3a37918017cac01
DTSTAMP:20260422T064318Z
SUMMARY:Berkshires-Sarasota Get Together
DESCRIPTION:Jewish Federation of the Berkshires\nBerkshire Jewish Community
  Calendar\nhttps://jewishberkshires.org/jewish-federation-of-the-berkshire
 s-calendar/berkshires-sarasota\n\nJoin us in Sarasota\, FL to connect with
  Berkshire friends and your Berkshire Federation for some nosh and schmooz
 ing. Hear from Federation President Arlene D. Schiff and Executive Direct
 or Dara Kaufman about all that has been happening in the Berkshires and pl
 ans for 2025!\n\nHosted by Alice and Len Schiller. The event address will 
 be shared with registered attendees the week before the event.  (timed to
  accommodate the Siesta Key bridge opening)\n\nSpace is limited and advan
 ced registrati...
DTSTART;TZID=America/New_York:20250304T094500
DTEND;TZID=America/New_York:20250304T111500
END:VEVENT
END:VCALENDAR
