BEGIN:VCALENDAR
PRODID:-//eluceo/ical//2.0/EN
VERSION:2.0
CALSCALE:GREGORIAN
BEGIN:VEVENT
UID:f0ad1e4cd64472aea5acb84c0d7e07bc
DTSTAMP:20260420T072929Z
SUMMARY:Berkshire Jewish Film Festival
DESCRIPTION:Jewish Federation of the Berkshires\nBerkshire Jewish Community
  Calendar\nhttps://jewishberkshires.org/jewish-federation-of-the-berkshire
 s-calendar/berkshire-jewish-film-festival-24740\n\nBerkshire Jewish Film F
 estival
DTSTART;TZID=America/New_York:20130805T160000
DTEND;TZID=America/New_York:20130805T163000
END:VEVENT
END:VCALENDAR
