BEGIN:VCALENDAR
PRODID:-//eluceo/ical//2.0/EN
VERSION:2.0
CALSCALE:GREGORIAN
BEGIN:VEVENT
UID:012c81f18bdb95e9ed9a7b070bd29a7a
DTSTAMP:20260420T073110Z
SUMMARY:Berkshire Jewish Film Festival
DESCRIPTION:Jewish Federation of the Berkshires\nBerkshire Jewish Community
  Calendar\nhttps://jewishberkshires.org/jewish-federation-of-the-berkshire
 s-calendar/berkshire-jewish-film-festival-1554924104\n\n93Queen Rachel “
 Ruchie” Freier is a no-nonsense Hasidic lawyer and mother of six who is 
 determined to shake up the ‘boys club’ in her community. She creates E
 zras Nashim\, the first all-female ambulance corps in NYC. Tickets on sale
  the day of the screening from 3:15-4 pm & 6:30-8 pm. Matinee $7. Evening 
 $10. $4/car carpooling discount coupon for 4 or more people.
DTSTART;TZID=America/New_York:20190812T160000
DTEND;TZID=America/New_York:20190812T180000
END:VEVENT
END:VCALENDAR
