BEGIN:VCALENDAR
PRODID:-//eluceo/ical//2.0/EN
VERSION:2.0
CALSCALE:GREGORIAN
BEGIN:VEVENT
UID:8e247b6acba1aab8cd657dc558503e90
DTSTAMP:20260419T181352Z
SUMMARY:Berkshire Jewish Film Festival
DESCRIPTION:Jewish Federation of the Berkshires\nBerkshire Jewish Community
  Calendar\nhttps://jewishberkshires.org/jewish-federation-of-the-berkshire
 s-calendar/berkshire-jewish-film-festival-1554923911\n\nThe Unorthodox A d
 isenfranchised Sephardic father launches the ultra-Orthodox Shas Party\, a
  nascent challenge to the ruling Ashkenazi establishment in this lively\, 
 crowd-pleasing drama.Tickets on sale the day of the screening from 3:15-4 
 pm & 6:30-8 pm. Matinee $7. Evening $10. $4/car carpooling discount coupon
  for 4 or more people.
DTSTART;TZID=America/New_York:20190805T200000
DTEND;TZID=America/New_York:20190805T220000
END:VEVENT
END:VCALENDAR
