BEGIN:VCALENDAR
PRODID:-//eluceo/ical//2.0/EN
VERSION:2.0
CALSCALE:GREGORIAN
BEGIN:VEVENT
UID:0b7fe7cb5a48fb53c2e49aaaf8e8acda
DTSTAMP:20260420T203046Z
SUMMARY:Berkshire Jewish Film Festival
DESCRIPTION:Jewish Federation of the Berkshires\nBerkshire Jewish Community
  Calendar\nhttps://jewishberkshires.org/jewish-federation-of-the-berkshire
 s-calendar/berkshire-jewish-film-festival-1554923729\n\nShoelaces This ten
 der family dramedy portrays the knotty relationship between an aging\, ira
 scible mechanic and the exuberant special-needs son he abandoned long befo
 re.Tickets on sale the day of the screening from 3:15-4 pm & 6:30-8 pm. Ma
 tinee $7. Evening $10. $4/car carpooling discount coupon for 4 or more peo
 ple.
DTSTART;TZID=America/New_York:20190805T160000
DTEND;TZID=America/New_York:20190805T180000
END:VEVENT
END:VCALENDAR
