BEGIN:VCALENDAR
PRODID:-//eluceo/ical//2.0/EN
VERSION:2.0
CALSCALE:GREGORIAN
BEGIN:VEVENT
UID:3436777a1c4e8d5d4e380f5622a24e27
DTSTAMP:20260420T040317Z
SUMMARY:Berkshire Jewish Film Festival
DESCRIPTION:Jewish Federation of the Berkshires\nBerkshire Jewish Community
  Calendar\nhttps://jewishberkshires.org/jewish-federation-of-the-berkshire
 s-calendar/berkshire-jewish-film-festival-1554923467\n\nLeona\nA young Jew
 ish woman from Mexico City finds herself torn between her family and her f
 orbidden love. Mature Content.\n\n \n\nTickets on sale the day of the scr
 eening from 3:15-4 pm & 6:30-8 pm.\nMatinee $7. Evening $10.\n$4/car carpo
 oling discount coupon for 4 or more people.
DTSTART;TZID=America/New_York:20190729T200000
DTEND;TZID=America/New_York:20190729T220000
END:VEVENT
END:VCALENDAR
