BEGIN:VCALENDAR
PRODID:-//eluceo/ical//2.0/EN
VERSION:2.0
CALSCALE:GREGORIAN
BEGIN:VEVENT
UID:f3e8d482ad7b761d5c61f9cd3088dd20
DTSTAMP:20260420T055019Z
SUMMARY:Berkshire Jewish Film Festival
DESCRIPTION:Jewish Federation of the Berkshires\nBerkshire Jewish Community
  Calendar\nhttps://jewishberkshires.org/jewish-federation-of-the-berkshire
 s-calendar/berkshire-jewish-film-festival-1554923134\n\nAsk Dr. Ruth\nDocu
 mentary about the life of Dr. Ruth Westheimer\, Holocaust survivor and Ame
 rica's most famous sex therapist.\n\n \n\nTickets on sale the day of the 
 screening from 3:15-4 pm & 6:30-8 pm.\nMatinee $7. Evening $10.\n$4/car ca
 rpooling discount coupon for 4 or more people.
DTSTART;TZID=America/New_York:20190729T160000
DTEND;TZID=America/New_York:20190729T180000
END:VEVENT
END:VCALENDAR
