BEGIN:VCALENDAR
PRODID:-//eluceo/ical//2.0/EN
VERSION:2.0
CALSCALE:GREGORIAN
BEGIN:VEVENT
UID:b11de72c53131be57e9acce72c2e5d47
DTSTAMP:20260420T092258Z
SUMMARY:Berkshire Jewish Film Festival
DESCRIPTION:Jewish Federation of the Berkshires\nBerkshire Jewish Community
  Calendar\nhttps://jewishberkshires.org/jewish-federation-of-the-berkshire
 s-calendar/berkshire-jewish-film-festival-1554922469\n\nRescue Bus 300\nA 
 powerful and tense docudrama about the 1984 hijacking and rescue of Bus 30
 0 in Israel.\n\n \n\nTickets on sale the day of the screening from 3:15-4
  pm & 6:30-8 pm.\nMatinee $7. Evening $10.\n$4/car carpooling discount cou
 pon for 4 or more people.
DTSTART;TZID=America/New_York:20190715T200000
DTEND;TZID=America/New_York:20190715T220000
END:VEVENT
END:VCALENDAR
