BEGIN:VCALENDAR
PRODID:-//eluceo/ical//2.0/EN
VERSION:2.0
CALSCALE:GREGORIAN
BEGIN:VEVENT
UID:ec3e337626db146265e02400b7275643
DTSTAMP:20260420T130528Z
SUMMARY:Berkshire Jewish Film Festival
DESCRIPTION:Jewish Federation of the Berkshires\nBerkshire Jewish Community
  Calendar\nhttps://jewishberkshires.org/jewish-federation-of-the-berkshire
 s-calendar/berkshire-jewish-film-festival-1524672452\n\nSammy Davis\, Jr: 
 I’ve Gotta Be MeThe first major film documentary to examine Davis’ vas
 t talent and his journey for identity through the shifting tides of civil 
 rights and racial progress during twentieth century America. Davis was the
  most public black figure to embrace Judaism thereby yoking his identity t
 o another persecuted minority. New interviews with Billy Crystal\, Norman 
 Lear\, Jerry Lewis\, Whoopi Goldberg\, and Kim Novak are featured with nev
 er-before-seen photos from his personal ...
DTSTART;TZID=America/New_York:20180723T160000
DTEND;TZID=America/New_York:20180723T180000
END:VEVENT
END:VCALENDAR
