BEGIN:VCALENDAR
PRODID:-//eluceo/ical//2.0/EN
VERSION:2.0
CALSCALE:GREGORIAN
BEGIN:VEVENT
UID:25d85c68717bc9cab70379672d636af3
DTSTAMP:20260420T130538Z
SUMMARY:Berkshire Jewish Film Festival
DESCRIPTION:Jewish Federation of the Berkshires\nBerkshire Jewish Community
  Calendar\nhttps://jewishberkshires.org/jewish-federation-of-the-berkshire
 s-calendar/berkshire-jewish-film-festival-1524671721\n\nLevinsky Park\n\nA
  documentary about the tens of thousands of refugees from sub-Saharan Afri
 ca who are seeking relief and safety in Israel only to find a society bitt
 erly divided on how to treat them.
DTSTART;TZID=America/New_York:20180716T160000
DTEND;TZID=America/New_York:20180716T180000
END:VEVENT
END:VCALENDAR
