BEGIN:VCALENDAR
PRODID:-//eluceo/ical//2.0/EN
VERSION:2.0
CALSCALE:GREGORIAN
BEGIN:VEVENT
UID:12a3b74dfd452df9c97822f16c1b2f61
DTSTAMP:20260420T005156Z
SUMMARY:Berkshire Jewish Film Festival
DESCRIPTION:Jewish Federation of the Berkshires\nBerkshire Jewish Community
  Calendar\nhttps://jewishberkshires.org/jewish-federation-of-the-berkshire
 s-calendar/berkshire-jewish-film-festival-1524670070\n\nA Bag of Marbles\n
 \nA story of the Nazi occupation through the eyes of two young Jewish boys
  struggling to survive on their own. Joseph\, age 10\, has such little und
 erstanding of the persecution of the Jews that he thinks nothing of swappi
 ng his yellow star for a bag of marbles. The boys survive on courage and i
 ngenuity as they make their way through France hoping to reunite with thei
 r families.
DTSTART;TZID=America/New_York:20180709T200000
DTEND;TZID=America/New_York:20180709T220000
END:VEVENT
END:VCALENDAR
