BEGIN:VCALENDAR
PRODID:-//eluceo/ical//2.0/EN
VERSION:2.0
CALSCALE:GREGORIAN
BEGIN:VEVENT
UID:f760648c7d6c443bc01059ff7f49204c
DTSTAMP:20260420T055009Z
SUMMARY:Berkshire Jewish Film Festival
DESCRIPTION:Jewish Federation of the Berkshires\nBerkshire Jewish Community
  Calendar\nhttps://jewishberkshires.org/jewish-federation-of-the-berkshire
 s-calendar/berkshire-jewish-film-festival-1479312229\n\nBogdan's Journey
DTSTART;TZID=America/New_York:20170807T160000
DTEND;TZID=America/New_York:20170807T180000
END:VEVENT
END:VCALENDAR
